BEGIN:VCALENDAR
VERSION:2.0
BEGIN:VEVENT
DTSTART;TZID=Europe/Stockholm:20250427T180000
DTEND;TZID=Europe/Stockholm:20250427T190000
DTSTAMP:20260422T112234
DESCRIPTION:Sånger i livets tonart, med Richard Niklasson och Lasse Ahgnell.
Information och insamling till Läkarmissionen.
SEQUENCE:0
SUMMARY:Musikkväll med Läkarmissionen
UID:2595@lawebb.se
END:VEVENT
END:VCALENDAR