BEGIN:VCALENDAR
VERSION:2.0
BEGIN:VEVENT
DTSTART;TZID=Europe/Stockholm:20250426T090000
DTEND;TZID=Europe/Stockholm:20250426T100000
DTSTAMP:20260422T104940
DESCRIPTION:Alla får fika och lunch
SEQUENCE:0
SUMMARY:Arbetsdag i kyrkan
UID:7555@lawebb.se
END:VEVENT
END:VCALENDAR