BEGIN:VCALENDAR
VERSION:2.0
BEGIN:VEVENT
DTSTART;TZID=Europe/Stockholm:20250420T100000
DTEND;TZID=Europe/Stockholm:20250420T110000
DTSTAMP:20260422T105133
DESCRIPTION:Olafur Gudmundsson, Gunnar Larsson
Servering
SEQUENCE:0
SUMMARY:Påskgudstjänst
UID:4527@lawebb.se
END:VEVENT
END:VCALENDAR