BEGIN:VCALENDAR
VERSION:2.0
BEGIN:VEVENT
DTSTART;TZID=Europe/Stockholm:20250410T100000
DTEND;TZID=Europe/Stockholm:20250410T110000
DTSTAMP:20260422T105543
DESCRIPTION:
SEQUENCE:0
SUMMARY:Sy och stickcafé
UID:4454@lawebb.se
END:VEVENT
END:VCALENDAR