BEGIN:VCALENDAR
VERSION:2.0
BEGIN:VEVENT
DTSTART;TZID=Europe/Stockholm:20250405T180000
DTEND;TZID=Europe/Stockholm:20250405T190000
DTSTAMP:20260422T105005
DESCRIPTION:Berörande och medryckande sånger varvas med humor och allvar.
Servering.
SEQUENCE:0
SUMMARY:Musikkväll med Hampe Gospel & Håkan Isacsson
UID:2322@lawebb.se
END:VEVENT
END:VCALENDAR