BEGIN:VCALENDAR
VERSION:2.0
BEGIN:VEVENT
DTSTART;TZID=Europe/Stockholm:20240512T100000
DTEND;TZID=Europe/Stockholm:20240512T110000
DTSTAMP:20260423T105142
DESCRIPTION:
SEQUENCE:0
SUMMARY:Gudstjänst
UID:2986@lawebb.se
END:VEVENT
END:VCALENDAR