BEGIN:VCALENDAR
VERSION:2.0
BEGIN:VEVENT
DTSTART;TZID=Europe/Stockholm:20240421T100000
DTEND;TZID=Europe/Stockholm:20240421T110000
DTSTAMP:20260423T123006
DESCRIPTION:
SEQUENCE:0
SUMMARY:Gudstjänst
UID:8947@lawebb.se
END:VEVENT
END:VCALENDAR