BEGIN:VCALENDAR
VERSION:2.0
BEGIN:VEVENT
DTSTART;TZID=Europe/Stockholm:20240303T100000
DTEND;TZID=Europe/Stockholm:20240303T110000
DTSTAMP:20260423T134450
DESCRIPTION:
SEQUENCE:0
SUMMARY:Gudstjänst
UID:7893@lawebb.se
END:VEVENT
END:VCALENDAR