BEGIN:VCALENDAR
VERSION:2.0
BEGIN:VEVENT
DTSTART;TZID=Europe/Stockholm:20240225T100000
DTEND;TZID=Europe/Stockholm:20240225T110000
DTSTAMP:20260423T151206
DESCRIPTION:
SEQUENCE:0
SUMMARY:Gudstjänst
UID:7632@lawebb.se
END:VEVENT
END:VCALENDAR