BEGIN:VCALENDAR
VERSION:2.0
BEGIN:VEVENT
DTSTART;TZID=Europe/Stockholm:20231203T100000
DTEND;TZID=Europe/Stockholm:20231203T110000
DTSTAMP:20260423T180054
DESCRIPTION:
SEQUENCE:0
SUMMARY:Gudstjänst
UID:7897@lawebb.se
END:VEVENT
END:VCALENDAR