BEGIN:VCALENDAR
VERSION:2.0
BEGIN:VEVENT
DTSTART;TZID=Europe/Stockholm:20231126T100000
DTEND;TZID=Europe/Stockholm:20231126T110000
DTSTAMP:20260423T192723
DESCRIPTION:
SEQUENCE:0
SUMMARY:Gudstjänst
UID:7987@lawebb.se
END:VEVENT
END:VCALENDAR