BEGIN:VCALENDAR
VERSION:2.0
BEGIN:VEVENT
DTSTART;TZID=Europe/Stockholm:20211128T100000
DTEND;TZID=Europe/Stockholm:20211128T110000
DTSTAMP:20260423T044213
DESCRIPTION:
SEQUENCE:0
SUMMARY:Gudstjänst
UID:5436@lawebb.se
END:VEVENT
END:VCALENDARBEGIN:VCALENDAR
VERSION:2.0
BEGIN:VEVENT
DTSTART;TZID=Europe/Stockholm:20231015T100000
DTEND;TZID=Europe/Stockholm:20231015T110000
DTSTAMP:20260423T205537
DESCRIPTION:
SEQUENCE:0
SUMMARY:Gudstjänst
UID:8969@lawebb.se
END:VEVENT
END:VCALENDAR