BEGIN:VCALENDAR
VERSION:2.0
BEGIN:VEVENT
DTSTART;TZID=Europe/Stockholm:20230910T100000
DTEND;TZID=Europe/Stockholm:20230910T110000
DTSTAMP:20260423T222802
DESCRIPTION:
SEQUENCE:0
SUMMARY:Gudstjänst
UID:8496@lawebb.se
END:VEVENT
END:VCALENDAR