BEGIN:VCALENDAR
VERSION:2.0
BEGIN:VEVENT
DTSTART;TZID=Europe/Stockholm:20230903T100000
DTEND;TZID=Europe/Stockholm:20230903T110000
DTSTAMP:20260423T222241
DESCRIPTION:
SEQUENCE:0
SUMMARY:Gudstjänst
UID:2946@lawebb.se
END:VEVENT
END:VCALENDAR