BEGIN:VCALENDAR
VERSION:2.0
BEGIN:VEVENT
DTSTART;TZID=Europe/Stockholm:20230730T100000
DTEND;TZID=Europe/Stockholm:20230730T110000
DTSTAMP:20260424T012536
DESCRIPTION:
SEQUENCE:0
SUMMARY:Gudstjänst
UID:2786@lawebb.se
END:VEVENT
END:VCALENDAR