BEGIN:VCALENDAR
VERSION:2.0
BEGIN:VEVENT
DTSTART;TZID=Europe/Stockholm:20220731T100000
DTEND;TZID=Europe/Stockholm:20220731T110000
DTSTAMP:20260423T044307
DESCRIPTION:
SEQUENCE:0
SUMMARY:Gudstjänst
UID:4485@lawebb.se
END:VEVENT
END:VCALENDARBEGIN:VCALENDAR
VERSION:2.0
BEGIN:VEVENT
DTSTART;TZID=Europe/Stockholm:20230723T100000
DTEND;TZID=Europe/Stockholm:20230723T110000
DTSTAMP:20260424T012356
DESCRIPTION:
SEQUENCE:0
SUMMARY:Gudstjänst
UID:3282@lawebb.se
END:VEVENT
END:VCALENDAR