BEGIN:VCALENDAR
VERSION:2.0
BEGIN:VEVENT
DTSTART;TZID=Europe/Stockholm:20230716T100000
DTEND;TZID=Europe/Stockholm:20230716T110000
DTSTAMP:20260424T012836
DESCRIPTION:
SEQUENCE:0
SUMMARY:Gudstjänst
UID:7847@lawebb.se
END:VEVENT
END:VCALENDAR