BEGIN:VCALENDAR
VERSION:2.0
BEGIN:VEVENT
DTSTART;TZID=Europe/Stockholm:20230528T100000
DTEND;TZID=Europe/Stockholm:20230528T110000
DTSTAMP:20260424T043700
DESCRIPTION:
SEQUENCE:0
SUMMARY:Gudstjänst
UID:8426@lawebb.se
END:VEVENT
END:VCALENDAR