BEGIN:VCALENDAR
VERSION:2.0
BEGIN:VEVENT
DTSTART;TZID=Europe/Stockholm:20230430T100000
DTEND;TZID=Europe/Stockholm:20230430T110000
DTSTAMP:20260424T060305
DESCRIPTION:
SEQUENCE:0
SUMMARY:Gudstjänst
UID:7565@lawebb.se
END:VEVENT
END:VCALENDAR