BEGIN:VCALENDAR
VERSION:2.0
BEGIN:VEVENT
DTSTART;TZID=Europe/Stockholm:20230312T100000
DTEND;TZID=Europe/Stockholm:20230312T110000
DTSTAMP:20260424T073737
DESCRIPTION:
SEQUENCE:0
SUMMARY:Gudstjänst
UID:4643@lawebb.se
END:VEVENT
END:VCALENDAR